BEGIN:VCALENDAR
VERSION:2.0
PRODID:spatie/icalendar-generator
DESCRIPTION:Events from VFW Post 549
X-WR-CALDESC:Events from VFW Post 549
REFRESH-INTERVAL;VALUE=DURATION:PT1440M
X-PUBLISHED-TTL:PT1440M
BEGIN:VTIMEZONE
TZID:America/Phoenix
BEGIN:STANDARD
DTSTART:20250529T180000Z
TZOFFSETFROM:-0700
TZOFFSETTO:-0700
END:STANDARD
END:VTIMEZONE
BEGIN:VTIMEZONE
TZID:UTC
BEGIN:STANDARD
DTSTART:20250725T082158Z
TZOFFSETFROM:+0000
TZOFFSETTO:+0000
END:STANDARD
END:VTIMEZONE
BEGIN:VEVENT
UID:159-6
DTSTAMP:20260421T082158Z
SUMMARY:Ace of Spades/Meat Raffle
LOCATION:
ORGANIZER;CN=Greg Algorri:MAILTO:info@eagletechsv.com
RRULE:FREQ=WEEKLY;UNTIL=20261228T000000Z
DTSTART;TZID=America/Phoenix:20260223T180000
DTEND;TZID=America/Phoenix:20260223T181500
X-ALT-DESC;FMTTYPE=TEXT/HTML:
CATEGORIES:Fun
URL;VALUE=URI:https://vfw549.org/mc-events/ace-of-spades-meat-raffle/?mc_id
 =159
METHOD:PUBLISH
END:VEVENT
END:VCALENDAR